{"text_format":"1","workbook":"xlsx","n_sheets":4,"sheets":["資料","クラス座席表(横6列)","クラス座席表(横７列) ","Sheet1"],"not_rendered":{"charts":0,"images":0,"macros":1,"external_links":0,"defined_names":3,"comments":0,"pivot_tables":0},"unopened":[],"bounds":{"document_bytes":16777216,"sheet_cells":100000,"rows_first":2000,"rows_last":500,"rows_between":2000,"halvings":0,"cell_chars":16384,"cell_head_chars":4096},"cells_cut":0,"cells_raw":0,"read":"whole","date_system":"1900"}

{"sheet":"資料","index":0,"n_rows":53,"n_cols":27,"rows_kept":53,"cut":false,"hidden":false,"merged":[[10,14,10,16],[0,5,0,6],[0,24,1,26],[0,10,1,20],[13,10,14,22]]}
[null,null,null,null,"↓ここへ入力","↓ここへ入力↓",null,null,null,null,"横６列\n出席番号入力↓",null,null,null,null,null,null,null,null,null,null,null,null,null,"↓名前の分割がしたい場合ここに入力"]
[null,"番号","出席番号","氏名","ふりがな","姓","名",null,"乱数"]
[null,1,"01",{"$f":"CONCATENATE(F3,\"　\",G3)","v":"東京　代々木"},"とうきょう　よよぎ","東京","代々木",{"$f":"CONCATENATE(C3,\"   \",D3)","v":"01   東京　代々木"},{"$f":"RAND()","v":4.7909498088946512E-2},null,null,null,null,null,null,null,null,null,null,null,null,null,null,1,"東京　代々木",{"$f":"LEFT(Y3,FIND(\"　\",Y3)-1)","v":"東京"},{"$f":"RIGHT(Y3, LEN(Y3)-FIND(\"　\",Y3))","v":"代々木"}]
[null,2,"02","高橋　昌子","たかはし　まさこ","高橋","昌子","02   高橋　昌子",0.5337209175901948,null,null,null,34,null,27,null,20,null,13,null,null,null,null,2,"高橋　昌子",{"$f":"LEFT(Y4,FIND(\"　\",Y4)-1)","v":"高橋"},{"$f":"RIGHT(Y4, LEN(Y4)-FIND(\"　\",Y4))","v":"昌子"}]
[null,3,"03","八木　葵","やぎ　あおい","八木","葵","03   八木　葵",0.39263204182559786,null,40,null,33,null,26,null,19,null,12,null,6,null,null,3,"八木　葵","八木","葵"]
[null,4,"04","河村　健","かわむら　たけし","河村","健","04   河村　健",0.45060059970542554,null,39,null,32,null,25,null,18,null,11,null,5,null,null,4,"河村　健","河村","健"]
[null,5,"05","中田　信子","なかだ　のぶこ","中田","信子","05   中田　信子",0.13832282191967749,null,38,null,31,null,24,null,17,null,10,null,4,null,null,5,"中田　信子","中田","信子"]
[null,6,"06","鈴木　麻衣","すずき　まい","鈴木","麻衣","06   鈴木　麻衣",3.5187864563297255E-2,null,37,null,30,null,23,null,16,null,9,null,3,null,null,6,"鈴木　麻衣","鈴木","麻衣"]
[null,7,"07","菊池　正春","きくち　まさはる","菊池","正春","07   菊池　正春",9.9539465570940067E-2,null,36,null,29,null,22,null,15,null,8,null,2,null,null,7,"菊池　正春","菊池","正春"]
[null,8,"08","小松　千代子","こまつ　ちよこ","小松","千代子","08   小松　千代子",0.68907093310868517,null,35,null,28,null,21,null,14,null,7,null,1,null,null,8,"小松　千代子","小松","千代子"]
[null,9,"09","近藤　正三","こんどう　しょうぞう","近藤","正三","09   近藤　正三",0.10388875387141605,null,null,null,null,null,"教卓",null,null,null,null,null,null,null,null,9,"近藤　正三","近藤","正三"]
[null,10,"10","島田　葵","しまだ　あおい","島田","葵","10   島田　葵",0.53492595201528881,null,null,null,null,null,null,null,null,null,null,null,null,null,null,10,"島田　葵","島田","葵"]
[null,11,"11","吉田　健一","よしだ　けんいち","吉田","健一","11   吉田　健一",0.36684734583317613,null,null,null,null,null,null,null,null,null,null,null,null,null,null,11,"吉田　健一","吉田","健一"]
[null,12,"12","松永　詩織","まつなが　しおり","松永","詩織","12   松永　詩織",0.34729247653896367,null,"横７列　\n出席番号入力↓",null,null,null,null,null,null,null,null,null,null,null,null,12,"松永　詩織","松永","詩織"]
[null,13,"13","広瀬　節子","ひろせ　せつこ","広瀬","節子","13   広瀬　節子",0.50046341657523341,null,null,null,null,null,null,null,null,null,null,null,null,null,null,13,"広瀬　節子","広瀬","節子"]
[null,14,"14","山内　祐介","やまうち　ゆうすけ","山内","祐介","14   山内　祐介",0.82358844204526016,null,null,null,null,null,null,null,null,null,null,null,null,null,null,14,"山内　祐介","山内","祐介"]
[null,15,"15","松田　清子","まつだ　せいこ","松田","清子","15   松田　清子",0.64857018114059684,null,null,null,null,null,null,null,null,null,null,null,null,null,null,15,"松田　清子","松田","清子"]
[null,16,"16","永田　信子","ながた　のぶこ","永田","信子","16   永田　信子",0.11444141089772886,null,null,null,35,null,29,null,23,null,17,null,11,null,null,16,"永田　信子","永田","信子"]
[null,17,"17","萩原　成美","はぎわら　なるみ","萩原","成美","17   萩原　成美",0.68201700168549462,null,40,null,34,null,28,null,22,null,16,null,10,null,5,17,"萩原　成美","萩原","成美"]
[null,18,"18","矢野　慶子","やの　けいこ","矢野","慶子","18   矢野　慶子",0.39899438971482726,null,39,null,33,null,27,null,21,null,15,null,9,null,4,18,"矢野　慶子","矢野","慶子"]
[null,19,"19","宮崎　竜也","みやざき　たつや","宮崎","竜也","19   宮崎　竜也",0.27546917580440711,null,38,null,32,null,26,null,20,null,14,null,8,null,3,19,"宮崎　竜也","宮崎","竜也"]
[null,20,"20","武藤　明美","むとう　あけみ","武藤","明美","20   武藤　明美",5.9300024364410731E-2,null,37,null,31,null,25,null,19,null,13,null,7,null,2,20,"武藤　明美","武藤","明美"]
[null,21,"21","山崎　奈々","やまざき　なな","山崎","奈々","21   山崎　奈々",0.7847017302502407,null,36,null,30,null,24,null,18,null,12,null,6,null,1,21,"山崎　奈々","山崎","奈々"]
[null,22,"22","河野　洋子","かわの　ひろこ","河野","洋子","22   河野　洋子",0.26735265436538613,null,null,null,null,null,null,null,"教卓",null,null,null,null,null,null,22,"河野　洋子","河野","洋子"]
[null,23,"23","内藤　浩之","ないとう　ひろゆき","内藤","浩之","23   内藤　浩之",0.80386083032629629,null,null,null,null,null,null,null,null,null,null,null,null,null,null,23,"内藤　浩之","内藤","浩之"]
[null,24,"24","土屋　小百合","つちや　さゆり","土屋","小百合","24   土屋　小百合",0.22915846561687991,null,null,null,null,null,null,null,null,null,null,null,null,null,null,24,"土屋　小百合","土屋","小百合"]
[null,25,"25","森　法子","もり　のりこ","森","法子","25   森　法子",0.64666636050278348,null,null,null,null,null,null,null,null,null,null,null,null,null,null,25,"森　法子","森","法子"]
[null,26,"26","菊地　一輝","きくち　かずき","菊地","一輝","26   菊地　一輝",0.34290528018894462,null,null,null,null,null,null,null,null,null,null,null,null,null,null,26,"菊地　一輝","菊地","一輝"]
[null,27,"27","根本　恵子","ねもと　けいこ","根本","恵子","27   根本　恵子",0.8052953675809511,null,null,null,null,null,null,null,null,null,null,null,null,null,null,27,"根本　恵子","根本","恵子"]
[null,28,"28","岩田　麻紀","いわた　まき","岩田","麻紀","28   岩田　麻紀",0.26528504062010871,null,null,null,null,null,null,null,null,null,null,null,null,null,null,28,"岩田　麻紀","岩田","麻紀"]
[null,29,"29","酒井　和夫","さかい　かずお","酒井","和夫","29   酒井　和夫",0.40341980620242068,null,null,null,null,null,null,null,null,null,null,null,null,null,null,29,"酒井　和夫","酒井","和夫"]
[null,30,"30","大森　愛","おおもり　あい","大森","愛","30   大森　愛",0.17126101874977262,null,null,null,null,null,null,null,null,null,null,null,null,null,null,30,"大森　愛","大森","愛"]
[null,31,"31","石橋　昭一","いしばし　しょういち","石橋","昭一","31   石橋　昭一",0.59534464804564668,null,null,null,null,null,null,null,null,null,null,null,null,null,null,31,"石橋　昭一","石橋","昭一"]
[null,32,"32","青山　真紀子","あおやま　まきこ","青山","真紀子","32   青山　真紀子",0.58022067204790295,null,null,null,null,null,null,null,null,null,null,null,null,null,null,32,"青山　真紀子","青山","真紀子"]
[null,33,"33","田村　宏美","たむら　ひろみ","田村","宏美","33   田村　宏美",0.43447308080469915,null,null,null,null,null,null,null,null,null,null,null,null,null,null,33,"田村　宏美","田村","宏美"]
[null,34,"34","村山　太陽","むらやま　たいよう","村山","太陽","34   村山　太陽",4.2684518299105356E-3,null,null,null,null,null,null,null,null,null,null,null,null,null,null,34,"村山　太陽","村山","太陽"]
[null,35,"35","大石　繁","おおいし　しげる","大石","繁","35   大石　繁",0.76494046422815343,null,null,null,null,null,null,null,null,null,null,null,null,null,null,35,"大石　繁","大石","繁"]
[null,36,"36","三宅　あゆみ","みやけ　あゆみ","三宅","あゆみ","36   三宅　あゆみ",0.89813654769695117,null,null,null,null,null,null,null,null,null,null,null,null,null,null,36,"三宅　あゆみ","三宅","あゆみ"]
[null,37,"37","山下　幸夫","やました　ゆきお","山下","幸夫","37   山下　幸夫",0.85673103690311136,null,null,null,null,null,null,null,null,null,null,null,null,null,null,37,"山下　幸夫","山下","幸夫"]
[null,38,"38","青山　昭一","あおやま　しょういち","青山","昭一","38   青山　昭一",0.38711178199837115,null,null,null,null,null,null,null,null,null,null,null,null,null,null,38,"青山　昭一","青山","昭一"]
[null,39,"39","岡　正雄","おか　まさお","岡","正雄","39   岡　正雄",2.5935675093874844E-2,null,null,null,null,null,null,null,null,null,null,null,null,null,null,39,"岡　正雄","岡","正雄"]
[null,40,"40","木村　崇","きむら　たかし","木村","崇","40   木村　崇",0.33124218729819133,null,null,null,null,null,null,null,null,null,null,null,null,null,null,40,"木村　崇",{"$f":"LEFT(Y42,FIND(\"　\",Y42)-1)","v":"木村"},{"$f":"RIGHT(Y42, LEN(Y42)-FIND(\"　\",Y42))","v":"崇"}]
[null,41,"41","小島　武雄","こじま　たけお","小島","武雄","41   小島　武雄",0.7021284382925066,null,null,null,null,null,null,null,null,null,null,null,null,null,null,41,"小島　武雄","小島","武雄"]
[null,42,"42","星野　さくら","ほしの　さくら","星野","さくら","42   星野　さくら",0.65678016521521043,null,null,null,null,null,null,null,null,null,null,null,null,null,null,42,"星野　さくら","星野","さくら"]
[null,43,"43","菊池　浩志","きくち　ひろし","菊池","浩志","43   菊池　浩志",0.11182237706639131,null,null,null,null,null,null,null,null,null,null,null,null,null,null,43,"菊池　浩志","菊池","浩志"]
[null,44,"44",null,null,null,null,"44   ",null,null,null,null,null,null,null,null,null,null,null,null,null,null,null,44,"中尾　可奈子","中尾","可奈子"]
[null,45,"45",null,null,null,null,"45   ",null,null,null,null,null,null,null,null,null,null,null,null,null,null,null,45,"村山　一男","村山","一男"]
[null,46,"46",null,null,null,null,"46   ",null,null,null,null,null,null,null,null,null,null,null,null,null,null,null,46,"坂本　愛","坂本","愛"]
[null,47,"47",null,null,null,null,"47   ",null,null,null,null,null,null,null,null,null,null,null,null,null,null,null,47,null,{"$error":"#VALUE!"},{"$error":"#VALUE!"}]
[null,48,"48",null,null,null,null,{"$f":"CONCATENATE(C50,\"  \",D50)","v":"48  "},null,null,null,null,null,null,null,null,null,null,null,null,null,null,null,48,null,{"$error":"#VALUE!"},{"$error":"#VALUE!"}]
[null,49,"49",null,null,null,null,{"$f":"CONCATENATE(C51,\"  \",D51)","v":"49  "},null,null,null,null,null,null,null,null,null,null,null,null,null,null,null,49,null,{"$error":"#VALUE!"},{"$error":"#VALUE!"}]
[null,50,"50",null,null,null,null,{"$f":"CONCATENATE(C52,\"  \",D52)","v":"50  "},null,null,null,null,null,null,null,null,null,null,null,null,null,null,null,50,null,{"$error":"#VALUE!"},{"$error":"#VALUE!"}]
[null,null,null,null,null,null,null,{"$f":"CONCATENATE(C53,\"  \",D53)","v":"  "}]

{"sheet":"クラス座席表(横6列)","index":1,"n_rows":42,"n_cols":14,"rows_kept":42,"cut":false,"hidden":false,"merged":[[3,3,3,4],[41,6,42,10]]}
[]
[]
[]
[]
[]
[]
[]
[]
[]
[]
[]
[]
[null,null,null,{"$f":"VLOOKUP(資料!K4,資料!$B$3:$D$52,2,0)","v":{"$error":"#N/A"}},null,{"$f":"VLOOKUP(資料!M4,資料!$B$3:$D$52,2,0)","v":"34"},null,{"$f":"VLOOKUP(資料!O4,資料!$B$3:$D$52,2,0)","v":"27"},null,{"$f":"VLOOKUP(資料!Q4,資料!$B$3:$D$52,2,0)","v":"20"},null,{"$f":"VLOOKUP(資料!S4,資料!$B$3:$D$52,2,0)","v":"13"},null,{"$f":"VLOOKUP(資料!U4,資料!$B$3:$D$52,2,0)","v":{"$error":"#N/A"}}]
[null,null,null,{"$f":"VLOOKUP(資料!K4,資料!$B$3:$F$52,5,0)","v":{"$error":"#N/A"}},null,{"$f":"VLOOKUP(資料!M4,資料!$B$3:$F$52,5,0)","v":"村山"},null,{"$f":"VLOOKUP(資料!O4,資料!$B$3:$F$52,5,0)","v":"根本"},null,{"$f":"VLOOKUP(資料!Q4,資料!$B$3:$F$52,5,0)","v":"武藤"},null,{"$f":"VLOOKUP(資料!S4,資料!$B$3:$F$52,5,0)","v":"広瀬"},null,{"$f":"VLOOKUP(資料!U4,資料!$B$3:$F$52,5,0)","v":{"$error":"#N/A"}}]
[null,null,null,{"$f":"VLOOKUP(資料!K4,資料!$B$3:$G$52,6,0)","v":{"$error":"#N/A"}},null,{"$f":"VLOOKUP(資料!M4,資料!$B$3:$G$52,6,0)","v":"太陽"},null,{"$f":"VLOOKUP(資料!O4,資料!$B$3:$G$52,6,0)","v":"恵子"},null,{"$f":"VLOOKUP(資料!Q4,資料!$B$3:$G$52,6,0)","v":"明美"},null,{"$f":"VLOOKUP(資料!S4,資料!$B$3:$G$52,6,0)","v":"節子"},null,{"$f":"VLOOKUP(資料!U4,資料!$B$3:$G$52,6,0)","v":{"$error":"#N/A"}}]
[null,null,null,{"$f":"VLOOKUP(資料!K4,資料!$B$3:$H$52,4,0)","v":{"$error":"#N/A"}},null,{"$f":"VLOOKUP(資料!M4,資料!$B$3:$H$52,4,0)","v":"むらやま　たいよう"},null,{"$f":"VLOOKUP(資料!O4,資料!$B$3:$H$52,4,0)","v":"ねもと　けいこ"},null,{"$f":"VLOOKUP(資料!Q4,資料!$B$3:$H$52,4,0)","v":"むとう　あけみ"},null,{"$f":"VLOOKUP(資料!S4,資料!$B$3:$H$52,4,0)","v":"ひろせ　せつこ"},null,{"$f":"VLOOKUP(資料!U4,資料!$B$3:$H$52,4,0)","v":{"$error":"#N/A"}}]
[null,null,null,{"$f":"VLOOKUP(資料!K5,資料!$B$3:$D$52,2,0)","v":"40"},null,{"$f":"VLOOKUP(資料!M5,資料!$B$3:$D$52,2,0)","v":"33"},null,{"$f":"VLOOKUP(資料!O5,資料!$B$3:$D$52,2,0)","v":"26"},null,{"$f":"VLOOKUP(資料!Q5,資料!$B$3:$D$52,2,0)","v":"19"},null,{"$f":"VLOOKUP(資料!S5,資料!$B$3:$D$52,2,0)","v":"12"},null,{"$f":"VLOOKUP(資料!U5,資料!$B$3:$D$52,2,0)","v":"06"}]
[null,null,null,{"$f":"VLOOKUP(資料!K5,資料!$B$3:$F$52,5,0)","v":"木村"},null,{"$f":"VLOOKUP(資料!M5,資料!$B$3:$F$52,5,0)","v":"田村"},null,{"$f":"VLOOKUP(資料!O5,資料!$B$3:$F$52,5,0)","v":"菊地"},null,{"$f":"VLOOKUP(資料!Q5,資料!$B$3:$F$52,5,0)","v":"宮崎"},null,{"$f":"VLOOKUP(資料!S5,資料!$B$3:$F$52,5,0)","v":"松永"},null,{"$f":"VLOOKUP(資料!U5,資料!$B$3:$F$52,5,0)","v":"鈴木"}]
[null,null,null,{"$f":"VLOOKUP(資料!K5,資料!$B$3:$G$52,6,0)","v":"崇"},null,{"$f":"VLOOKUP(資料!M5,資料!$B$3:$G$52,6,0)","v":"宏美"},null,{"$f":"VLOOKUP(資料!O5,資料!$B$3:$G$52,6,0)","v":"一輝"},null,{"$f":"VLOOKUP(資料!Q5,資料!$B$3:$G$52,6,0)","v":"竜也"},null,{"$f":"VLOOKUP(資料!S5,資料!$B$3:$G$52,6,0)","v":"詩織"},null,{"$f":"VLOOKUP(資料!U5,資料!$B$3:$G$52,6,0)","v":"麻衣"}]
[null,null,null,{"$f":"VLOOKUP(資料!K5,資料!$B$3:$H$52,4,0)","v":"きむら　たかし"},null,{"$f":"VLOOKUP(資料!M5,資料!$B$3:$H$52,4,0)","v":"たむら　ひろみ"},null,{"$f":"VLOOKUP(資料!O5,資料!$B$3:$H$52,4,0)","v":"きくち　かずき"},null,{"$f":"VLOOKUP(資料!Q5,資料!$B$3:$H$52,4,0)","v":"みやざき　たつや"},null,{"$f":"VLOOKUP(資料!S5,資料!$B$3:$H$52,4,0)","v":"まつなが　しおり"},null,{"$f":"VLOOKUP(資料!U5,資料!$B$3:$H$52,4,0)","v":"すずき　まい"}]
[null,null,null,{"$f":"VLOOKUP(資料!K6,資料!$B$3:$D$52,2,0)","v":"39"},null,{"$f":"VLOOKUP(資料!M6,資料!$B$3:$D$52,2,0)","v":"32"},null,{"$f":"VLOOKUP(資料!O6,資料!$B$3:$D$52,2,0)","v":"25"},null,{"$f":"VLOOKUP(資料!Q6,資料!$B$3:$D$52,2,0)","v":"18"},null,{"$f":"VLOOKUP(資料!S6,資料!$B$3:$D$52,2,0)","v":"11"},null,{"$f":"VLOOKUP(資料!U6,資料!$B$3:$D$52,2,0)","v":"05"}]
[null,null,null,{"$f":"VLOOKUP(資料!K6,資料!$B$3:$F$52,5,0)","v":"岡"},null,{"$f":"VLOOKUP(資料!M6,資料!$B$3:$F$52,5,0)","v":"青山"},null,{"$f":"VLOOKUP(資料!O6,資料!$B$3:$F$52,5,0)","v":"森"},null,{"$f":"VLOOKUP(資料!Q6,資料!$B$3:$F$52,5,0)","v":"矢野"},null,{"$f":"VLOOKUP(資料!S6,資料!$B$3:$F$52,5,0)","v":"吉田"},null,{"$f":"VLOOKUP(資料!U6,資料!$B$3:$F$52,5,0)","v":"中田"}]
[null,null,null,{"$f":"VLOOKUP(資料!K6,資料!$B$3:$G$52,6,0)","v":"正雄"},null,{"$f":"VLOOKUP(資料!M6,資料!$B$3:$G$52,6,0)","v":"真紀子"},null,{"$f":"VLOOKUP(資料!O6,資料!$B$3:$G$52,6,0)","v":"法子"},null,{"$f":"VLOOKUP(資料!Q6,資料!$B$3:$G$52,6,0)","v":"慶子"},null,{"$f":"VLOOKUP(資料!S6,資料!$B$3:$G$52,6,0)","v":"健一"},null,{"$f":"VLOOKUP(資料!U6,資料!$B$3:$G$52,6,0)","v":"信子"}]
[null,null,null,{"$f":"VLOOKUP(資料!K6,資料!$B$3:$H$52,4,0)","v":"おか　まさお"},null,{"$f":"VLOOKUP(資料!M6,資料!$B$3:$H$52,4,0)","v":"あおやま　まきこ"},null,{"$f":"VLOOKUP(資料!O6,資料!$B$3:$H$52,4,0)","v":"もり　のりこ"},null,{"$f":"VLOOKUP(資料!Q6,資料!$B$3:$H$52,4,0)","v":"やの　けいこ"},null,{"$f":"VLOOKUP(資料!S6,資料!$B$3:$H$52,4,0)","v":"よしだ　けんいち"},null,{"$f":"VLOOKUP(資料!U6,資料!$B$3:$H$52,4,0)","v":"なかだ　のぶこ"}]
[null,null,null,{"$f":"VLOOKUP(資料!K7,資料!$B$3:$D$52,2,0)","v":"38"},null,{"$f":"VLOOKUP(資料!M7,資料!$B$3:$D$52,2,0)","v":"31"},null,{"$f":"VLOOKUP(資料!O7,資料!$B$3:$D$52,2,0)","v":"24"},null,{"$f":"VLOOKUP(資料!Q7,資料!$B$3:$D$52,2,0)","v":"17"},null,{"$f":"VLOOKUP(資料!S7,資料!$B$3:$D$52,2,0)","v":"10"},null,{"$f":"VLOOKUP(資料!U7,資料!$B$3:$D$52,2,0)","v":"04"}]
[null,null,null,{"$f":"VLOOKUP(資料!K7,資料!$B$3:$F$52,5,0)","v":"青山"},null,{"$f":"VLOOKUP(資料!M7,資料!$B$3:$F$52,5,0)","v":"石橋"},null,{"$f":"VLOOKUP(資料!O7,資料!$B$3:$F$52,5,0)","v":"土屋"},null,{"$f":"VLOOKUP(資料!Q7,資料!$B$3:$F$52,5,0)","v":"萩原"},null,{"$f":"VLOOKUP(資料!S7,資料!$B$3:$F$52,5,0)","v":"島田"},null,{"$f":"VLOOKUP(資料!U7,資料!$B$3:$F$52,5,0)","v":"河村"}]
[null,null,null,{"$f":"VLOOKUP(資料!K7,資料!$B$3:$G$52,6,0)","v":"昭一"},null,{"$f":"VLOOKUP(資料!M7,資料!$B$3:$G$52,6,0)","v":"昭一"},null,{"$f":"VLOOKUP(資料!O7,資料!$B$3:$G$52,6,0)","v":"小百合"},null,{"$f":"VLOOKUP(資料!Q7,資料!$B$3:$G$52,6,0)","v":"成美"},null,{"$f":"VLOOKUP(資料!S7,資料!$B$3:$G$52,6,0)","v":"葵"},null,{"$f":"VLOOKUP(資料!U7,資料!$B$3:$G$52,6,0)","v":"健"}]
[null,null,null,{"$f":"VLOOKUP(資料!K7,資料!$B$3:$H$52,4,0)","v":"あおやま　しょういち"},null,{"$f":"VLOOKUP(資料!M7,資料!$B$3:$H$52,4,0)","v":"いしばし　しょういち"},null,{"$f":"VLOOKUP(資料!O7,資料!$B$3:$H$52,4,0)","v":"つちや　さゆり"},null,{"$f":"VLOOKUP(資料!Q7,資料!$B$3:$H$52,4,0)","v":"はぎわら　なるみ"},null,{"$f":"VLOOKUP(資料!S7,資料!$B$3:$H$52,4,0)","v":"しまだ　あおい"},null,{"$f":"VLOOKUP(資料!U7,資料!$B$3:$H$52,4,0)","v":"かわむら　たけし"}]
[null,null,null,{"$f":"VLOOKUP(資料!K8,資料!$B$3:$D$52,2,0)","v":"37"},null,{"$f":"VLOOKUP(資料!M8,資料!$B$3:$D$52,2,0)","v":"30"},null,{"$f":"VLOOKUP(資料!O8,資料!$B$3:$D$52,2,0)","v":"23"},null,{"$f":"VLOOKUP(資料!Q8,資料!$B$3:$D$52,2,0)","v":"16"},null,{"$f":"VLOOKUP(資料!S8,資料!$B$3:$D$52,2,0)","v":"09"},null,{"$f":"VLOOKUP(資料!U8,資料!$B$3:$D$52,2,0)","v":"03"}]
[null,null,null,{"$f":"VLOOKUP(資料!K8,資料!$B$3:$F$52,5,0)","v":"山下"},null,{"$f":"VLOOKUP(資料!M8,資料!$B$3:$F$52,5,0)","v":"大森"},null,{"$f":"VLOOKUP(資料!O8,資料!$B$3:$F$52,5,0)","v":"内藤"},null,{"$f":"VLOOKUP(資料!Q8,資料!$B$3:$F$52,5,0)","v":"永田"},null,{"$f":"VLOOKUP(資料!S8,資料!$B$3:$F$52,5,0)","v":"近藤"},null,{"$f":"VLOOKUP(資料!U8,資料!$B$3:$F$52,5,0)","v":"八木"}]
[null,null,null,{"$f":"VLOOKUP(資料!K8,資料!$B$3:$G$52,6,0)","v":"幸夫"},null,{"$f":"VLOOKUP(資料!M8,資料!$B$3:$G$52,6,0)","v":"愛"},null,{"$f":"VLOOKUP(資料!O8,資料!$B$3:$G$52,6,0)","v":"浩之"},null,{"$f":"VLOOKUP(資料!Q8,資料!$B$3:$G$52,6,0)","v":"信子"},null,{"$f":"VLOOKUP(資料!S8,資料!$B$3:$G$52,6,0)","v":"正三"},null,{"$f":"VLOOKUP(資料!U8,資料!$B$3:$G$52,6,0)","v":"葵"}]
[null,null,null,{"$f":"VLOOKUP(資料!K8,資料!$B$3:$H$52,4,0)","v":"やました　ゆきお"},null,{"$f":"VLOOKUP(資料!M8,資料!$B$3:$H$52,4,0)","v":"おおもり　あい"},null,{"$f":"VLOOKUP(資料!O8,資料!$B$3:$H$52,4,0)","v":"ないとう　ひろゆき"},null,{"$f":"VLOOKUP(資料!Q8,資料!$B$3:$H$52,4,0)","v":"ながた　のぶこ"},null,{"$f":"VLOOKUP(資料!S8,資料!$B$3:$H$52,4,0)","v":"こんどう　しょうぞう"},null,{"$f":"VLOOKUP(資料!U8,資料!$B$3:$H$52,4,0)","v":"やぎ　あおい"}]
[null,null,null,{"$f":"VLOOKUP(資料!K9,資料!$B$3:$D$52,2,0)","v":"36"},null,{"$f":"VLOOKUP(資料!M9,資料!$B$3:$D$52,2,0)","v":"29"},null,{"$f":"VLOOKUP(資料!O9,資料!$B$3:$D$52,2,0)","v":"22"},null,{"$f":"VLOOKUP(資料!Q9,資料!$B$3:$D$52,2,0)","v":"15"},null,{"$f":"VLOOKUP(資料!S9,資料!$B$3:$D$52,2,0)","v":"08"},null,{"$f":"VLOOKUP(資料!U9,資料!$B$3:$D$52,2,0)","v":"02"}]
[null,null,null,{"$f":"VLOOKUP(資料!K9,資料!$B$3:$F$52,5,0)","v":"三宅"},null,{"$f":"VLOOKUP(資料!M9,資料!$B$3:$F$52,5,0)","v":"酒井"},null,{"$f":"VLOOKUP(資料!O9,資料!$B$3:$F$52,5,0)","v":"河野"},null,{"$f":"VLOOKUP(資料!Q9,資料!$B$3:$F$52,5,0)","v":"松田"},null,{"$f":"VLOOKUP(資料!S9,資料!$B$3:$F$52,5,0)","v":"小松"},null,{"$f":"VLOOKUP(資料!U9,資料!$B$3:$F$52,5,0)","v":"高橋"}]
[null,null,null,{"$f":"VLOOKUP(資料!K9,資料!$B$3:$G$52,6,0)","v":"あゆみ"},null,{"$f":"VLOOKUP(資料!M9,資料!$B$3:$G$52,6,0)","v":"和夫"},null,{"$f":"VLOOKUP(資料!O9,資料!$B$3:$G$52,6,0)","v":"洋子"},null,{"$f":"VLOOKUP(資料!Q9,資料!$B$3:$G$52,6,0)","v":"清子"},null,{"$f":"VLOOKUP(資料!S9,資料!$B$3:$G$52,6,0)","v":"千代子"},null,{"$f":"VLOOKUP(資料!U9,資料!$B$3:$G$52,6,0)","v":"昌子"}]
[null,null,null,{"$f":"VLOOKUP(資料!K9,資料!$B$3:$H$52,4,0)","v":"みやけ　あゆみ"},null,{"$f":"VLOOKUP(資料!M9,資料!$B$3:$H$52,4,0)","v":"さかい　かずお"},null,{"$f":"VLOOKUP(資料!O9,資料!$B$3:$H$52,4,0)","v":"かわの　ひろこ"},null,{"$f":"VLOOKUP(資料!Q9,資料!$B$3:$H$52,4,0)","v":"まつだ　せいこ"},null,{"$f":"VLOOKUP(資料!S9,資料!$B$3:$H$52,4,0)","v":"こまつ　ちよこ"},null,{"$f":"VLOOKUP(資料!U9,資料!$B$3:$H$52,4,0)","v":"たかはし　まさこ"}]
[null,null,null,{"$f":"VLOOKUP(資料!K10,資料!$B$3:$D$52,2,0)","v":"35"},null,{"$f":"VLOOKUP(資料!M10,資料!$B$3:$D$52,2,0)","v":"28"},null,{"$f":"VLOOKUP(資料!O10,資料!$B$3:$D$52,2,0)","v":"21"},null,{"$f":"VLOOKUP(資料!Q10,資料!$B$3:$D$52,2,0)","v":"14"},null,{"$f":"VLOOKUP(資料!S10,資料!$B$3:$D$52,2,0)","v":"07"},null,{"$f":"VLOOKUP(資料!U10,資料!$B$3:$D$52,2,0)","v":"01"}]
[null,null,null,{"$f":"VLOOKUP(資料!K10,資料!$B$3:$F$52,5,0)","v":"大石"},null,{"$f":"VLOOKUP(資料!M10,資料!$B$3:$F$52,5,0)","v":"岩田"},null,{"$f":"VLOOKUP(資料!O10,資料!$B$3:$F$52,5,0)","v":"山崎"},null,{"$f":"VLOOKUP(資料!Q10,資料!$B$3:$F$52,5,0)","v":"山内"},null,{"$f":"VLOOKUP(資料!S10,資料!$B$3:$F$52,5,0)","v":"菊池"},null,{"$f":"VLOOKUP(資料!U10,資料!$B$3:$F$52,5,0)","v":"東京"}]
[null,null,null,{"$f":"VLOOKUP(資料!K10,資料!$B$3:$G$52,6,0)","v":"繁"},null,{"$f":"VLOOKUP(資料!M10,資料!$B$3:$G$52,6,0)","v":"麻紀"},null,{"$f":"VLOOKUP(資料!O10,資料!$B$3:$G$52,6,0)","v":"奈々"},null,{"$f":"VLOOKUP(資料!Q10,資料!$B$3:$G$52,6,0)","v":"祐介"},null,{"$f":"VLOOKUP(資料!S10,資料!$B$3:$G$52,6,0)","v":"正春"},null,{"$f":"VLOOKUP(資料!U10,資料!$B$3:$G$52,6,0)","v":"代々木"}]
[null,null,null,{"$f":"VLOOKUP(資料!K10,資料!$B$3:$H$52,4,0)","v":"おおいし　しげる"},null,{"$f":"VLOOKUP(資料!M10,資料!$B$3:$H$52,4,0)","v":"いわた　まき"},null,{"$f":"VLOOKUP(資料!O10,資料!$B$3:$H$52,4,0)","v":"やまざき　なな"},null,{"$f":"VLOOKUP(資料!Q10,資料!$B$3:$H$52,4,0)","v":"やまうち　ゆうすけ"},null,{"$f":"VLOOKUP(資料!S10,資料!$B$3:$H$52,4,0)","v":"きくち　まさはる"},null,{"$f":"VLOOKUP(資料!U10,資料!$B$3:$H$52,4,0)","v":"とうきょう　よよぎ"}]
[]
[null,null,null,null,null,null,"教 卓"]

{"sheet":"クラス座席表(横７列) ","index":2,"n_rows":42,"n_cols":16,"rows_kept":42,"cut":false,"hidden":false,"merged":[[3,3,3,4],[41,6,42,12]]}
[]
[]
[]
[]
[]
[]
[]
[]
[]
[]
[]
[]
[null,null,null,{"$f":"VLOOKUP(資料!K17,資料!$B$3:$D$52,2,0)","v":{"$error":"#N/A"}},null,{"$f":"VLOOKUP(資料!M17,資料!$B$3:$D$52,2,0)","v":{"$error":"#N/A"}},null,{"$f":"VLOOKUP(資料!O17,資料!$B$3:$D$52,2,0)","v":{"$error":"#N/A"}},null,{"$f":"VLOOKUP(資料!Q17,資料!$B$3:$D$52,2,0)","v":{"$error":"#N/A"}},null,{"$f":"VLOOKUP(資料!S17,資料!$B$3:$D$52,2,0)","v":{"$error":"#N/A"}},null,{"$f":"VLOOKUP(資料!U17,資料!$B$3:$D$52,2,0)","v":{"$error":"#N/A"}},null,{"$f":"VLOOKUP(資料!W17,資料!$B$3:$D$52,2,0)","v":{"$error":"#N/A"}}]
[null,null,null,{"$f":"VLOOKUP(資料!K17,資料!$B$3:$F$52,5,0)","v":{"$error":"#N/A"}},null,{"$f":"VLOOKUP(資料!M17,資料!$B$3:$F$52,5,0)","v":{"$error":"#N/A"}},null,{"$f":"VLOOKUP(資料!O17,資料!$B$3:$F$52,5,0)","v":{"$error":"#N/A"}},null,{"$f":"VLOOKUP(資料!Q17,資料!$B$3:$F$52,5,0)","v":{"$error":"#N/A"}},null,{"$f":"VLOOKUP(資料!S17,資料!$B$3:$F$52,5,0)","v":{"$error":"#N/A"}},null,{"$f":"VLOOKUP(資料!U17,資料!$B$3:$F$52,5,0)","v":{"$error":"#N/A"}},null,{"$f":"VLOOKUP(資料!W17,資料!$B$3:$F$52,5,0)","v":{"$error":"#N/A"}}]
[null,null,null,{"$f":"VLOOKUP(資料!K17,資料!$B$3:$G$52,6,0)","v":{"$error":"#N/A"}},null,{"$f":"VLOOKUP(資料!M17,資料!$B$3:$G$52,6,0)","v":{"$error":"#N/A"}},null,{"$f":"VLOOKUP(資料!O17,資料!$B$3:$G$52,6,0)","v":{"$error":"#N/A"}},null,{"$f":"VLOOKUP(資料!Q17,資料!$B$3:$G$52,6,0)","v":{"$error":"#N/A"}},null,{"$f":"VLOOKUP(資料!S17,資料!$B$3:$G$52,6,0)","v":{"$error":"#N/A"}},null,{"$f":"VLOOKUP(資料!U17,資料!$B$3:$G$52,6,0)","v":{"$error":"#N/A"}},null,{"$f":"VLOOKUP(資料!W17,資料!$B$3:$G$52,6,0)","v":{"$error":"#N/A"}}]
[null,null,null,{"$f":"VLOOKUP(資料!K17,資料!$B$3:$H$52,4,0)","v":{"$error":"#N/A"}},null,{"$f":"VLOOKUP(資料!M17,資料!$B$3:$H$52,4,0)","v":{"$error":"#N/A"}},null,{"$f":"VLOOKUP(資料!O17,資料!$B$3:$H$52,4,0)","v":{"$error":"#N/A"}},null,{"$f":"VLOOKUP(資料!Q17,資料!$B$3:$H$52,4,0)","v":{"$error":"#N/A"}},null,{"$f":"VLOOKUP(資料!S17,資料!$B$3:$H$52,4,0)","v":{"$error":"#N/A"}},null,{"$f":"VLOOKUP(資料!U17,資料!$B$3:$H$52,4,0)","v":{"$error":"#N/A"}},null,{"$f":"VLOOKUP(資料!W17,資料!$B$3:$H$52,4,0)","v":{"$error":"#N/A"}}]
[null,null,null,{"$f":"VLOOKUP(資料!K18,資料!$B$3:$D$52,2,0)","v":{"$error":"#N/A"}},null,{"$f":"VLOOKUP(資料!M18,資料!$B$3:$D$52,2,0)","v":"35"},null,{"$f":"VLOOKUP(資料!O18,資料!$B$3:$D$52,2,0)","v":"29"},null,{"$f":"VLOOKUP(資料!Q18,資料!$B$3:$D$52,2,0)","v":"23"},null,{"$f":"VLOOKUP(資料!S18,資料!$B$3:$D$52,2,0)","v":"17"},null,{"$f":"VLOOKUP(資料!U18,資料!$B$3:$D$52,2,0)","v":"11"},null,{"$f":"VLOOKUP(資料!W18,資料!$B$3:$D$52,2,0)","v":{"$error":"#N/A"}}]
[null,null,null,{"$f":"VLOOKUP(資料!K18,資料!$B$3:$F$52,5,0)","v":{"$error":"#N/A"}},null,{"$f":"VLOOKUP(資料!M18,資料!$B$3:$F$52,5,0)","v":"大石"},null,{"$f":"VLOOKUP(資料!O18,資料!$B$3:$F$52,5,0)","v":"酒井"},null,{"$f":"VLOOKUP(資料!Q18,資料!$B$3:$F$52,5,0)","v":"内藤"},null,{"$f":"VLOOKUP(資料!S18,資料!$B$3:$F$52,5,0)","v":"萩原"},null,{"$f":"VLOOKUP(資料!U18,資料!$B$3:$F$52,5,0)","v":"吉田"},null,{"$f":"VLOOKUP(資料!W18,資料!$B$3:$F$52,5,0)","v":{"$error":"#N/A"}}]
[null,null,null,{"$f":"VLOOKUP(資料!K18,資料!$B$3:$G$52,6,0)","v":{"$error":"#N/A"}},null,{"$f":"VLOOKUP(資料!M18,資料!$B$3:$G$52,6,0)","v":"繁"},null,{"$f":"VLOOKUP(資料!O18,資料!$B$3:$G$52,6,0)","v":"和夫"},null,{"$f":"VLOOKUP(資料!Q18,資料!$B$3:$G$52,6,0)","v":"浩之"},null,{"$f":"VLOOKUP(資料!S18,資料!$B$3:$G$52,6,0)","v":"成美"},null,{"$f":"VLOOKUP(資料!U18,資料!$B$3:$G$52,6,0)","v":"健一"},null,{"$f":"VLOOKUP(資料!W18,資料!$B$3:$G$52,6,0)","v":{"$error":"#N/A"}}]
[null,null,null,{"$f":"VLOOKUP(資料!K18,資料!$B$3:$H$52,4,0)","v":{"$error":"#N/A"}},null,{"$f":"VLOOKUP(資料!M18,資料!$B$3:$H$52,4,0)","v":"おおいし　しげる"},null,{"$f":"VLOOKUP(資料!O18,資料!$B$3:$H$52,4,0)","v":"さかい　かずお"},null,{"$f":"VLOOKUP(資料!Q18,資料!$B$3:$H$52,4,0)","v":"ないとう　ひろゆき"},null,{"$f":"VLOOKUP(資料!S18,資料!$B$3:$H$52,4,0)","v":"はぎわら　なるみ"},null,{"$f":"VLOOKUP(資料!U18,資料!$B$3:$H$52,4,0)","v":"よしだ　けんいち"},null,{"$f":"VLOOKUP(資料!W18,資料!$B$3:$H$52,4,0)","v":{"$error":"#N/A"}}]
[null,null,null,{"$f":"VLOOKUP(資料!K19,資料!$B$3:$D$52,2,0)","v":"40"},null,{"$f":"VLOOKUP(資料!M19,資料!$B$3:$D$52,2,0)","v":"34"},null,{"$f":"VLOOKUP(資料!O19,資料!$B$3:$D$52,2,0)","v":"28"},null,{"$f":"VLOOKUP(資料!Q19,資料!$B$3:$D$52,2,0)","v":"22"},null,{"$f":"VLOOKUP(資料!S19,資料!$B$3:$D$52,2,0)","v":"16"},null,{"$f":"VLOOKUP(資料!U19,資料!$B$3:$D$52,2,0)","v":"10"},null,{"$f":"VLOOKUP(資料!W19,資料!$B$3:$D$52,2,0)","v":"05"}]
[null,null,null,{"$f":"VLOOKUP(資料!K19,資料!$B$3:$F$52,5,0)","v":"木村"},null,{"$f":"VLOOKUP(資料!M19,資料!$B$3:$F$52,5,0)","v":"村山"},null,{"$f":"VLOOKUP(資料!O19,資料!$B$3:$F$52,5,0)","v":"岩田"},null,{"$f":"VLOOKUP(資料!Q19,資料!$B$3:$F$52,5,0)","v":"河野"},null,{"$f":"VLOOKUP(資料!S19,資料!$B$3:$F$52,5,0)","v":"永田"},null,{"$f":"VLOOKUP(資料!U19,資料!$B$3:$F$52,5,0)","v":"島田"},null,{"$f":"VLOOKUP(資料!W19,資料!$B$3:$F$52,5,0)","v":"中田"}]
[null,null,null,{"$f":"VLOOKUP(資料!K19,資料!$B$3:$G$52,6,0)","v":"崇"},null,{"$f":"VLOOKUP(資料!M19,資料!$B$3:$G$52,6,0)","v":"太陽"},null,{"$f":"VLOOKUP(資料!O19,資料!$B$3:$G$52,6,0)","v":"麻紀"},null,{"$f":"VLOOKUP(資料!Q19,資料!$B$3:$G$52,6,0)","v":"洋子"},null,{"$f":"VLOOKUP(資料!S19,資料!$B$3:$G$52,6,0)","v":"信子"},null,{"$f":"VLOOKUP(資料!U19,資料!$B$3:$G$52,6,0)","v":"葵"},null,{"$f":"VLOOKUP(資料!W19,資料!$B$3:$G$52,6,0)","v":"信子"}]
[null,null,null,{"$f":"VLOOKUP(資料!K19,資料!$B$3:$H$52,4,0)","v":"きむら　たかし"},null,{"$f":"VLOOKUP(資料!M19,資料!$B$3:$H$52,4,0)","v":"むらやま　たいよう"},null,{"$f":"VLOOKUP(資料!O19,資料!$B$3:$H$52,4,0)","v":"いわた　まき"},null,{"$f":"VLOOKUP(資料!Q19,資料!$B$3:$H$52,4,0)","v":"かわの　ひろこ"},null,{"$f":"VLOOKUP(資料!S19,資料!$B$3:$H$52,4,0)","v":"ながた　のぶこ"},null,{"$f":"VLOOKUP(資料!U19,資料!$B$3:$H$52,4,0)","v":"しまだ　あおい"},null,{"$f":"VLOOKUP(資料!W19,資料!$B$3:$H$52,4,0)","v":"なかだ　のぶこ"}]
[null,null,null,{"$f":"VLOOKUP(資料!K20,資料!$B$3:$D$52,2,0)","v":"39"},{"$f":"VLOOKUP(資料!L20,資料!$B$3:$D$52,2,0)","v":{"$error":"#N/A"}},{"$f":"VLOOKUP(資料!M20,資料!$B$3:$D$52,2,0)","v":"33"},{"$f":"VLOOKUP(資料!N20,資料!$B$3:$D$52,2,0)","v":{"$error":"#N/A"}},{"$f":"VLOOKUP(資料!O20,資料!$B$3:$D$52,2,0)","v":"27"},{"$f":"VLOOKUP(資料!P20,資料!$B$3:$D$52,2,0)","v":{"$error":"#N/A"}},{"$f":"VLOOKUP(資料!Q20,資料!$B$3:$D$52,2,0)","v":"21"},{"$f":"VLOOKUP(資料!R20,資料!$B$3:$D$52,2,0)","v":{"$error":"#N/A"}},{"$f":"VLOOKUP(資料!S20,資料!$B$3:$D$52,2,0)","v":"15"},{"$f":"VLOOKUP(資料!T20,資料!$B$3:$D$52,2,0)","v":{"$error":"#N/A"}},{"$f":"VLOOKUP(資料!U20,資料!$B$3:$D$52,2,0)","v":"09"},null,{"$f":"VLOOKUP(資料!W20,資料!$B$3:$D$52,2,0)","v":"04"}]
[null,null,null,{"$f":"VLOOKUP(資料!K20,資料!$B$3:$F$52,5,0)","v":"岡"},{"$f":"VLOOKUP(資料!L20,資料!$B$3:$F$52,5,0)","v":{"$error":"#N/A"}},{"$f":"VLOOKUP(資料!M20,資料!$B$3:$F$52,5,0)","v":"田村"},{"$f":"VLOOKUP(資料!N20,資料!$B$3:$F$52,5,0)","v":{"$error":"#N/A"}},{"$f":"VLOOKUP(資料!O20,資料!$B$3:$F$52,5,0)","v":"根本"},{"$f":"VLOOKUP(資料!P20,資料!$B$3:$F$52,5,0)","v":{"$error":"#N/A"}},{"$f":"VLOOKUP(資料!Q20,資料!$B$3:$F$52,5,0)","v":"山崎"},{"$f":"VLOOKUP(資料!R20,資料!$B$3:$F$52,5,0)","v":{"$error":"#N/A"}},{"$f":"VLOOKUP(資料!S20,資料!$B$3:$F$52,5,0)","v":"松田"},{"$f":"VLOOKUP(資料!T20,資料!$B$3:$F$52,5,0)","v":{"$error":"#N/A"}},{"$f":"VLOOKUP(資料!U20,資料!$B$3:$F$52,5,0)","v":"近藤"},null,{"$f":"VLOOKUP(資料!W20,資料!$B$3:$F$52,5,0)","v":"河村"}]
[null,null,null,{"$f":"VLOOKUP(資料!K20,資料!$B$3:$G$52,6,0)","v":"正雄"},{"$f":"VLOOKUP(資料!L20,資料!$B$3:$G$52,6,0)","v":{"$error":"#N/A"}},{"$f":"VLOOKUP(資料!M20,資料!$B$3:$G$52,6,0)","v":"宏美"},{"$f":"VLOOKUP(資料!N20,資料!$B$3:$G$52,6,0)","v":{"$error":"#N/A"}},{"$f":"VLOOKUP(資料!O20,資料!$B$3:$G$52,6,0)","v":"恵子"},{"$f":"VLOOKUP(資料!P20,資料!$B$3:$G$52,6,0)","v":{"$error":"#N/A"}},{"$f":"VLOOKUP(資料!Q20,資料!$B$3:$G$52,6,0)","v":"奈々"},{"$f":"VLOOKUP(資料!R20,資料!$B$3:$G$52,6,0)","v":{"$error":"#N/A"}},{"$f":"VLOOKUP(資料!S20,資料!$B$3:$G$52,6,0)","v":"清子"},{"$f":"VLOOKUP(資料!T20,資料!$B$3:$G$52,6,0)","v":{"$error":"#N/A"}},{"$f":"VLOOKUP(資料!U20,資料!$B$3:$G$52,6,0)","v":"正三"},null,{"$f":"VLOOKUP(資料!W20,資料!$B$3:$G$52,6,0)","v":"健"}]
[null,null,null,{"$f":"VLOOKUP(資料!K20,資料!$B$3:$H$52,4,0)","v":"おか　まさお"},{"$f":"VLOOKUP(資料!L20,資料!$B$3:$H$52,4,0)","v":{"$error":"#N/A"}},{"$f":"VLOOKUP(資料!M20,資料!$B$3:$H$52,4,0)","v":"たむら　ひろみ"},{"$f":"VLOOKUP(資料!N20,資料!$B$3:$H$52,4,0)","v":{"$error":"#N/A"}},{"$f":"VLOOKUP(資料!O20,資料!$B$3:$H$52,4,0)","v":"ねもと　けいこ"},{"$f":"VLOOKUP(資料!P20,資料!$B$3:$H$52,4,0)","v":{"$error":"#N/A"}},{"$f":"VLOOKUP(資料!Q20,資料!$B$3:$H$52,4,0)","v":"やまざき　なな"},{"$f":"VLOOKUP(資料!R20,資料!$B$3:$H$52,4,0)","v":{"$error":"#N/A"}},{"$f":"VLOOKUP(資料!S20,資料!$B$3:$H$52,4,0)","v":"まつだ　せいこ"},{"$f":"VLOOKUP(資料!T20,資料!$B$3:$H$52,4,0)","v":{"$error":"#N/A"}},{"$f":"VLOOKUP(資料!U20,資料!$B$3:$H$52,4,0)","v":"こんどう　しょうぞう"},null,{"$f":"VLOOKUP(資料!W20,資料!$B$3:$H$52,4,0)","v":"かわむら　たけし"}]
[null,null,null,{"$f":"VLOOKUP(資料!K21,資料!$B$3:$D$52,2,0)","v":"38"},null,{"$f":"VLOOKUP(資料!M21,資料!$B$3:$D$52,2,0)","v":"32"},null,{"$f":"VLOOKUP(資料!O21,資料!$B$3:$D$52,2,0)","v":"26"},null,{"$f":"VLOOKUP(資料!Q21,資料!$B$3:$D$52,2,0)","v":"20"},null,{"$f":"VLOOKUP(資料!S21,資料!$B$3:$D$52,2,0)","v":"14"},null,{"$f":"VLOOKUP(資料!U21,資料!$B$3:$D$52,2,0)","v":"08"},null,{"$f":"VLOOKUP(資料!W21,資料!$B$3:$D$52,2,0)","v":"03"}]
[null,null,null,{"$f":"VLOOKUP(資料!K21,資料!$B$3:$F$52,5,0)","v":"青山"},null,{"$f":"VLOOKUP(資料!M21,資料!$B$3:$F$52,5,0)","v":"青山"},null,{"$f":"VLOOKUP(資料!O21,資料!$B$3:$F$52,5,0)","v":"菊地"},null,{"$f":"VLOOKUP(資料!Q21,資料!$B$3:$F$52,5,0)","v":"武藤"},null,{"$f":"VLOOKUP(資料!S21,資料!$B$3:$F$52,5,0)","v":"山内"},null,{"$f":"VLOOKUP(資料!U21,資料!$B$3:$F$52,5,0)","v":"小松"},null,{"$f":"VLOOKUP(資料!W21,資料!$B$3:$F$52,5,0)","v":"八木"}]
[null,null,null,{"$f":"VLOOKUP(資料!K21,資料!$B$3:$G$52,6,0)","v":"昭一"},null,{"$f":"VLOOKUP(資料!M21,資料!$B$3:$G$52,6,0)","v":"真紀子"},null,{"$f":"VLOOKUP(資料!O21,資料!$B$3:$G$52,6,0)","v":"一輝"},null,{"$f":"VLOOKUP(資料!Q21,資料!$B$3:$G$52,6,0)","v":"明美"},null,{"$f":"VLOOKUP(資料!S21,資料!$B$3:$G$52,6,0)","v":"祐介"},null,{"$f":"VLOOKUP(資料!U21,資料!$B$3:$G$52,6,0)","v":"千代子"},null,{"$f":"VLOOKUP(資料!W21,資料!$B$3:$G$52,6,0)","v":"葵"}]
[null,null,null,{"$f":"VLOOKUP(資料!K21,資料!$B$3:$H$52,4,0)","v":"あおやま　しょういち"},null,{"$f":"VLOOKUP(資料!M21,資料!$B$3:$H$52,4,0)","v":"あおやま　まきこ"},null,{"$f":"VLOOKUP(資料!O21,資料!$B$3:$H$52,4,0)","v":"きくち　かずき"},null,{"$f":"VLOOKUP(資料!Q21,資料!$B$3:$H$52,4,0)","v":"むとう　あけみ"},null,{"$f":"VLOOKUP(資料!S21,資料!$B$3:$H$52,4,0)","v":"やまうち　ゆうすけ"},null,{"$f":"VLOOKUP(資料!U21,資料!$B$3:$H$52,4,0)","v":"こまつ　ちよこ"},null,{"$f":"VLOOKUP(資料!W21,資料!$B$3:$H$52,4,0)","v":"やぎ　あおい"}]
[null,null,null,{"$f":"VLOOKUP(資料!K22,資料!$B$3:$D$52,2,0)","v":"37"},null,{"$f":"VLOOKUP(資料!M22,資料!$B$3:$D$52,2,0)","v":"31"},null,{"$f":"VLOOKUP(資料!O22,資料!$B$3:$D$52,2,0)","v":"25"},null,{"$f":"VLOOKUP(資料!Q22,資料!$B$3:$D$52,2,0)","v":"19"},null,{"$f":"VLOOKUP(資料!S22,資料!$B$3:$D$52,2,0)","v":"13"},null,{"$f":"VLOOKUP(資料!U22,資料!$B$3:$D$52,2,0)","v":"07"},null,{"$f":"VLOOKUP(資料!W22,資料!$B$3:$D$52,2,0)","v":"02"}]
[null,null,null,{"$f":"VLOOKUP(資料!K22,資料!$B$3:$F$52,5,0)","v":"山下"},null,{"$f":"VLOOKUP(資料!M22,資料!$B$3:$F$52,5,0)","v":"石橋"},null,{"$f":"VLOOKUP(資料!O22,資料!$B$3:$F$52,5,0)","v":"森"},null,{"$f":"VLOOKUP(資料!Q22,資料!$B$3:$F$52,5,0)","v":"宮崎"},null,{"$f":"VLOOKUP(資料!S22,資料!$B$3:$F$52,5,0)","v":"広瀬"},null,{"$f":"VLOOKUP(資料!U22,資料!$B$3:$F$52,5,0)","v":"菊池"},null,{"$f":"VLOOKUP(資料!W22,資料!$B$3:$F$52,5,0)","v":"高橋"}]
[null,null,null,{"$f":"VLOOKUP(資料!K22,資料!$B$3:$G$52,6,0)","v":"幸夫"},null,{"$f":"VLOOKUP(資料!M22,資料!$B$3:$G$52,6,0)","v":"昭一"},null,{"$f":"VLOOKUP(資料!O22,資料!$B$3:$G$52,6,0)","v":"法子"},null,{"$f":"VLOOKUP(資料!Q22,資料!$B$3:$G$52,6,0)","v":"竜也"},null,{"$f":"VLOOKUP(資料!S22,資料!$B$3:$G$52,6,0)","v":"節子"},null,{"$f":"VLOOKUP(資料!U22,資料!$B$3:$G$52,6,0)","v":"正春"},null,{"$f":"VLOOKUP(資料!W22,資料!$B$3:$G$52,6,0)","v":"昌子"}]
[null,null,null,{"$f":"VLOOKUP(資料!K22,資料!$B$3:$H$52,4,0)","v":"やました　ゆきお"},null,{"$f":"VLOOKUP(資料!M22,資料!$B$3:$H$52,4,0)","v":"いしばし　しょういち"},null,{"$f":"VLOOKUP(資料!O22,資料!$B$3:$H$52,4,0)","v":"もり　のりこ"},null,{"$f":"VLOOKUP(資料!Q22,資料!$B$3:$H$52,4,0)","v":"みやざき　たつや"},null,{"$f":"VLOOKUP(資料!S22,資料!$B$3:$H$52,4,0)","v":"ひろせ　せつこ"},null,{"$f":"VLOOKUP(資料!U22,資料!$B$3:$H$52,4,0)","v":"きくち　まさはる"},null,{"$f":"VLOOKUP(資料!W22,資料!$B$3:$H$52,4,0)","v":"たかはし　まさこ"}]
[null,null,null,{"$f":"VLOOKUP(資料!K23,資料!$B$3:$D$52,2,0)","v":"36"},null,{"$f":"VLOOKUP(資料!M23,資料!$B$3:$D$52,2,0)","v":"30"},null,{"$f":"VLOOKUP(資料!O23,資料!$B$3:$D$52,2,0)","v":"24"},null,{"$f":"VLOOKUP(資料!Q23,資料!$B$3:$D$52,2,0)","v":"18"},null,{"$f":"VLOOKUP(資料!S23,資料!$B$3:$D$52,2,0)","v":"12"},null,{"$f":"VLOOKUP(資料!U23,資料!$B$3:$D$52,2,0)","v":"06"},null,{"$f":"VLOOKUP(資料!W23,資料!$B$3:$D$52,2,0)","v":"01"}]
[null,null,null,{"$f":"VLOOKUP(資料!K23,資料!$B$3:$F$52,5,0)","v":"三宅"},null,{"$f":"VLOOKUP(資料!M23,資料!$B$3:$F$52,5,0)","v":"大森"},null,{"$f":"VLOOKUP(資料!O23,資料!$B$3:$F$52,5,0)","v":"土屋"},null,{"$f":"VLOOKUP(資料!Q23,資料!$B$3:$F$52,5,0)","v":"矢野"},null,{"$f":"VLOOKUP(資料!S23,資料!$B$3:$F$52,5,0)","v":"松永"},null,{"$f":"VLOOKUP(資料!U23,資料!$B$3:$F$52,5,0)","v":"鈴木"},null,{"$f":"VLOOKUP(資料!W23,資料!$B$3:$F$52,5,0)","v":"東京"}]
[null,null,null,{"$f":"VLOOKUP(資料!K23,資料!$B$3:$G$52,6,0)","v":"あゆみ"},null,{"$f":"VLOOKUP(資料!M23,資料!$B$3:$G$52,6,0)","v":"愛"},null,{"$f":"VLOOKUP(資料!O23,資料!$B$3:$G$52,6,0)","v":"小百合"},null,{"$f":"VLOOKUP(資料!Q23,資料!$B$3:$G$52,6,0)","v":"慶子"},null,{"$f":"VLOOKUP(資料!S23,資料!$B$3:$G$52,6,0)","v":"詩織"},null,{"$f":"VLOOKUP(資料!U23,資料!$B$3:$G$52,6,0)","v":"麻衣"},null,{"$f":"VLOOKUP(資料!W23,資料!$B$3:$G$52,6,0)","v":"代々木"}]
[null,null,null,{"$f":"VLOOKUP(資料!K23,資料!$B$3:$H$52,4,0)","v":"みやけ　あゆみ"},null,{"$f":"VLOOKUP(資料!M23,資料!$B$3:$H$52,4,0)","v":"おおもり　あい"},null,{"$f":"VLOOKUP(資料!O23,資料!$B$3:$H$52,4,0)","v":"つちや　さゆり"},null,{"$f":"VLOOKUP(資料!Q23,資料!$B$3:$H$52,4,0)","v":"やの　けいこ"},null,{"$f":"VLOOKUP(資料!S23,資料!$B$3:$H$52,4,0)","v":"まつなが　しおり"},null,{"$f":"VLOOKUP(資料!U23,資料!$B$3:$H$52,4,0)","v":"すずき　まい"},null,{"$f":"VLOOKUP(資料!W23,資料!$B$3:$H$52,4,0)","v":"とうきょう　よよぎ"}]
[]
[null,null,null,null,null,null,"教 卓"]

{"sheet":"Sheet1","index":3,"n_rows":46,"n_cols":7,"rows_kept":46,"cut":false,"hidden":false,"merged":[]}
[]
[null,"高橋　昌子","たかはし　まさこ","女","1958-12-12",64,"Ｏ"]
[null,"八木　葵","やぎ　あおい","女","1976-08-02",46,"Ａ"]
[null,"河村　健","かわむら　たけし","男","1934-09-11",88,"Ｏ"]
[null,"中田　信子","なかだ　のぶこ","女","1977-06-24",46,"Ａ"]
[null,"鈴木　麻衣","すずき　まい","女","1995-08-27",27,"Ａ"]
[null,"菊池　正春","きくち　まさはる","男","1952-07-23",70,"Ａ"]
[null,"小松　千代子","こまつ　ちよこ","女","1942-09-11",80,"Ａ"]
[null,"近藤　正三","こんどう　しょうぞう","男","1978-04-27",45,"Ｏ"]
[null,"島田　葵","しまだ　あおい","女","1979-08-15",43,"Ａ"]
[null,"吉田　健一","よしだ　けんいち","男","1982-05-20",41,"Ａ"]
[null,"松永　詩織","まつなが　しおり","女","1996-05-01",27,"AB"]
[null,"広瀬　節子","ひろせ　せつこ","女","2001-10-15",21,"Ｂ"]
[null,"山内　祐介","やまうち　ゆうすけ","男","1940-01-21",83,"Ａ"]
[null,"松田　清子","まつだ　せいこ","女","1959-01-22",64,"Ａ"]
[null,"永田　信子","ながた　のぶこ","女","1970-12-03",52,"Ｂ"]
[null,"萩原　成美","はぎわら　なるみ","女","1984-01-03",39,"Ｏ"]
[null,"矢野　慶子","やの　けいこ","女","1972-10-18",50,"Ｏ"]
[null,"宮崎　竜也","みやざき　たつや","男","1937-08-27",85,"Ｂ"]
[null,"武藤　明美","むとう　あけみ","女","1948-04-07",75,"Ｏ"]
[null,"山崎　奈々","やまざき　なな","女","1938-02-26",85,"Ｏ"]
[null,"河野　洋子","かわの　ひろこ","女","2002-09-30",20,"Ａ"]
[null,"内藤　浩之","ないとう　ひろゆき","男","1993-10-06",29,"Ｂ"]
[null,"土屋　小百合","つちや　さゆり","女","1974-05-05",49,"AB"]
[null,"森　法子","もり　のりこ","女","1997-08-06",25,"Ａ"]
[null,"菊地　一輝","きくち　かずき","男","1946-08-05",76,"Ｏ"]
[null,"根本　恵子","ねもと　けいこ","女","1962-06-25",61,"AB"]
[null,"岩田　麻紀","いわた　まき","女","2000-12-31",22,"AB"]
[null,"酒井　和夫","さかい　かずお","男","1992-08-27",30,"Ｏ"]
[null,"大森　愛","おおもり　あい","女","1975-08-18",47,"Ｏ"]
[null,"石橋　昭一","いしばし　しょういち","男","1957-12-10",65,"Ｏ"]
[null,"青山　真紀子","あおやま　まきこ","女","1968-11-11",54,"Ｏ"]
[null,"田村　宏美","たむら　ひろみ","女","1964-08-14",58,"Ｏ"]
[null,"村山　太陽","むらやま　たいよう","男","1985-02-11",38,"Ｂ"]
[null,"大石　繁","おおいし　しげる","男","1992-03-22",31,"Ａ"]
[null,"三宅　あゆみ","みやけ　あゆみ","女","1975-02-16",48,"Ａ"]
[null,"山下　幸夫","やました　ゆきお","男","1981-05-30",42,"Ａ"]
[null,"青山　昭一","あおやま　しょういち","男","1969-03-10",54,"Ｏ"]
[null,"岡　正雄","おか　まさお","男","1992-02-06",31,"Ｂ"]
[null,"木村　崇","きむら　たかし","男","1980-07-26",42,"Ｂ"]
[null,"小島　武雄","こじま　たけお","男","1942-04-16",81,"Ａ"]
[null,"星野　さくら","ほしの　さくら","女","1997-04-13",26,"Ａ"]
[null,"菊池　浩志","きくち　ひろし","男","1957-02-23",66,"Ｏ"]
[null,"中尾　可奈子","なかお　かなこ","女","1947-04-24",76,"AB"]
[null,"村山　一男","むらやま　かずお","男","1936-01-29",87,"Ａ"]
[null,"坂本　愛","さかもと　めぐみ","女","1982-02-21",41,"Ａ"]